BEGIN:VCALENDAR
VERSION:2.0
PRODID:-//Department Of Education//ed37682c-fe93-4420-9b20-658ea108c001
BEGIN:VTIMEZONE
TZID:Australia/Sydney
TZURL:http://tzurl.org/zoneinfo-outlook/Australia/Sydney
X-LIC-LOCATION:Australia/Sydney
BEGIN:STANDARD
TZOFFSETFROM:+1100
TZOFFSETTO:+1000
TZNAME:AEST
DTSTART:19700405T030000
RRULE:FREQ=YEARLY;BYMONTH=4;BYDAY=1SU
END:STANDARD
BEGIN:DAYLIGHT
TZOFFSETFROM:+1000
TZOFFSETTO:+1100
TZNAME:AEDT
DTSTART:19701004T020000
RRULE:FREQ=YEARLY;BYMONTH=10;BYDAY=1SU
END:DAYLIGHT
END:VTIMEZONE
CALSCALE:GREGORIAN
X-WR-TIMEZONE:Australia/Sydney
BEGIN:VEVENT
DTSTART;VALUE=DATE:20200225
DTEND;VALUE=DATE:20200226
DTSTAMP:20200225T000000Z
UID:843ed801-32a3-40a8-a29f-b736cea3257b
LOCATION:East Maitland Public School
SUMMARY;LANGUAGE=en-us:Shake A Leg Program - Years 3 & 4
RRULE:FREQ=WEEKLY;INTERVAL=1;UNTIL=20200324;
SEQUENCE:0
DESCRIPTION:Shake A Leg Program
END:VEVENT
TRANSP:TRANSPARENT
END:VCALENDAR
